BEGIN:VCALENDAR
VERSION:2.0
PRODID:-//Radsportbezirk Schönbuch-Würmtal e.V. - ECPv6.15.20//NONSGML v1.0//EN
CALSCALE:GREGORIAN
METHOD:PUBLISH
X-ORIGINAL-URL:https://radsportbezirk-schoenbuch-wuermtal.de
X-WR-CALDESC:Veranstaltungen für Radsportbezirk Schönbuch-Würmtal e.V.
REFRESH-INTERVAL;VALUE=DURATION:PT1H
X-Robots-Tag:noindex
X-PUBLISHED-TTL:PT1H
BEGIN:VTIMEZONE
TZID:Europe/Berlin
BEGIN:DAYLIGHT
TZOFFSETFROM:+0100
TZOFFSETTO:+0200
TZNAME:CEST
DTSTART:20230326T010000
END:DAYLIGHT
BEGIN:STANDARD
TZOFFSETFROM:+0200
TZOFFSETTO:+0100
TZNAME:CET
DTSTART:20231029T010000
END:STANDARD
BEGIN:DAYLIGHT
TZOFFSETFROM:+0100
TZOFFSETTO:+0200
TZNAME:CEST
DTSTART:20240331T010000
END:DAYLIGHT
BEGIN:STANDARD
TZOFFSETFROM:+0200
TZOFFSETTO:+0100
TZNAME:CET
DTSTART:20241027T010000
END:STANDARD
BEGIN:DAYLIGHT
TZOFFSETFROM:+0100
TZOFFSETTO:+0200
TZNAME:CEST
DTSTART:20250330T010000
END:DAYLIGHT
BEGIN:STANDARD
TZOFFSETFROM:+0200
TZOFFSETTO:+0100
TZNAME:CET
DTSTART:20251026T010000
END:STANDARD
END:VTIMEZONE
BEGIN:VEVENT
DTSTART;VALUE=DATE:20240602
DTEND;VALUE=DATE:20240603
DTSTAMP:20260422T031853
CREATED:20240127T073003Z
LAST-MODIFIED:20240127T073003Z
UID:188-1717286400-1717372799@radsportbezirk-schoenbuch-wuermtal.de
SUMMARY:Race Days Stuttgart Etappe Magstadt
DESCRIPTION:Etappen / Zeitplan
URL:https://radsportbezirk-schoenbuch-wuermtal.de/event/race-days-stuttgart-etappe-magstadt/
LOCATION:Magstadt
END:VEVENT
BEGIN:VEVENT
DTSTART;VALUE=DATE:20240623
DTEND;VALUE=DATE:20240624
DTSTAMP:20260422T031856
CREATED:20240117T142312Z
LAST-MODIFIED:20240117T142312Z
UID:181-1719100800-1719187199@radsportbezirk-schoenbuch-wuermtal.de
SUMMARY:AOK Radsonntag (SV Bondorf und RSV Öschelbronn)
DESCRIPTION:
URL:https://radsportbezirk-schoenbuch-wuermtal.de/event/aok-radsonntag-sv-bondorf-und-rsv-oeschelbronn/
LOCATION:Bondorf\, Bondorf\, Deutschland
END:VEVENT
BEGIN:VEVENT
DTSTART;TZID=Europe/Berlin:20240623T093000
DTEND;TZID=Europe/Berlin:20240623T170000
DTSTAMP:20260422T031856
CREATED:20240224T205058Z
LAST-MODIFIED:20240625T094512Z
UID:217-1719135000-1719162000@radsportbezirk-schoenbuch-wuermtal.de
SUMMARY:Nufringer Einradpokal
DESCRIPTION:Der RV Nufringen hat sich entschieden am 23.6. erstmals den Nufringer Einradpokal zu veranstalten und lädt dazu herzlich ein. \nHier die Ausschreibung V2 (mit Erläuterungen zum Improfahren)\, gebt diese gerne auch weiter\, sowohl innerhalb eurer Vereine\, als auch an andere\, die vielleicht Interesse haben könnten. \nDie Veranstalter würden sich freuen zwecks Planung gerne schon im Voraus eine unverbindliche Anmeldung mit der Anzahl der Mannschaften zu erhalten. Rückmeldungen bitte an fachwart@heine7.de ich leite sie dann weiter. \nStarterliste_Nufringer_Einradpokal_2024 \nErgebnisliste_Nufringer_Einradpokal_2024
URL:https://radsportbezirk-schoenbuch-wuermtal.de/event/nufringer-einradpokal/
LOCATION:Nufringen Schwabenlandhalle\, Im Wiesengrund 20\, Nufringen\, 71154\, Deutschland
END:VEVENT
BEGIN:VEVENT
DTSTART;TZID=Europe/Berlin:20240623T100000
DTEND;TZID=Europe/Berlin:20240623T163000
DTSTAMP:20260422T031856
CREATED:20240507T180857Z
LAST-MODIFIED:20240507T180857Z
UID:238-1719136800-1719160200@radsportbezirk-schoenbuch-wuermtal.de
SUMMARY:Nufringer Einradpokal
DESCRIPTION:Startberechtigt: 4er und 6er Mannschaften im Einradfahren\, weiblich/ männlich/ offen\, mit gültiger Lizenz / Starterkarte in den Mannschaftsdisziplinen laut Sportordnung des BDR. Eine Mindestpunktzahl von 30 Punkten muss eingereicht werden. \nAblauf: Je nach Starterfeld werden ein oder zwei Starts des eingereichten Programms gefahren und zusätzlich ein kurzes „lmprofahren”. Zur Wertung werden alle Fahrten addiert. \nMeldung: bis 31.05.2024 an fachwart@heine7.de (Stefan Heine) \nWir bitten um eine frühzeitige Meldung\, sehr gerne auch im Voraus eine unverbindliche Anmeldung mit der Anzahl der Mannschaften. \nWeitere Details: siehe Ausschreibung \nDer RV Nufringen freut sich auf viele Teilnehmende und einen tollen Wettkampftag! \nNufringerEinradpokal
URL:https://radsportbezirk-schoenbuch-wuermtal.de/event/nufringer-einradpokal-2/
LOCATION:Nufringen Schwabenlandhalle\, Im Wiesengrund 20\, Nufringen\, 71154\, Deutschland
END:VEVENT
BEGIN:VEVENT
DTSTART;TZID=Europe/Berlin:20240626T153000
DTEND;TZID=Europe/Berlin:20240626T183000
DTSTAMP:20260422T031856
CREATED:20240114T152842Z
LAST-MODIFIED:20240114T152842Z
UID:158-1719415800-1719426600@radsportbezirk-schoenbuch-wuermtal.de
SUMMARY:Radrennbahn Öschelbronn: Sommerbahn-Cup Lauf 3/6
DESCRIPTION:Siehe https://rsvo.de/veranstaltungen/sv-sommerbahn-cup/
URL:https://radsportbezirk-schoenbuch-wuermtal.de/event/radrennbahn-oeschelbronn-sommerbahn-cup-lauf-3-6/
LOCATION:Radstadion Öschelbronn\, Brenntenwäldle 2\, Gäufelden\, 71126\, Deutschland
END:VEVENT
END:VCALENDAR