BEGIN:VCALENDAR
VERSION:2.0
PRODID:-//Radsportbezirk Schönbuch-Würmtal e.V. - ECPv6.15.20//NONSGML v1.0//EN
CALSCALE:GREGORIAN
METHOD:PUBLISH
X-ORIGINAL-URL:https://radsportbezirk-schoenbuch-wuermtal.de
X-WR-CALDESC:Veranstaltungen für Radsportbezirk Schönbuch-Würmtal e.V.
REFRESH-INTERVAL;VALUE=DURATION:PT1H
X-Robots-Tag:noindex
X-PUBLISHED-TTL:PT1H
BEGIN:VTIMEZONE
TZID:Europe/Berlin
BEGIN:DAYLIGHT
TZOFFSETFROM:+0100
TZOFFSETTO:+0200
TZNAME:CEST
DTSTART:20230326T010000
END:DAYLIGHT
BEGIN:STANDARD
TZOFFSETFROM:+0200
TZOFFSETTO:+0100
TZNAME:CET
DTSTART:20231029T010000
END:STANDARD
BEGIN:DAYLIGHT
TZOFFSETFROM:+0100
TZOFFSETTO:+0200
TZNAME:CEST
DTSTART:20240331T010000
END:DAYLIGHT
BEGIN:STANDARD
TZOFFSETFROM:+0200
TZOFFSETTO:+0100
TZNAME:CET
DTSTART:20241027T010000
END:STANDARD
BEGIN:DAYLIGHT
TZOFFSETFROM:+0100
TZOFFSETTO:+0200
TZNAME:CEST
DTSTART:20250330T010000
END:DAYLIGHT
BEGIN:STANDARD
TZOFFSETFROM:+0200
TZOFFSETTO:+0100
TZNAME:CET
DTSTART:20251026T010000
END:STANDARD
END:VTIMEZONE
BEGIN:VEVENT
DTSTART;TZID=Europe/Berlin:20240508T153000
DTEND;TZID=Europe/Berlin:20240508T183000
DTSTAMP:20260422T044426
CREATED:20240114T152622Z
LAST-MODIFIED:20240114T152622Z
UID:154-1715182200-1715193000@radsportbezirk-schoenbuch-wuermtal.de
SUMMARY:Radrennbahn Öschelbronn: Sommerbahn-Cup Lauf 1/6
DESCRIPTION:Siehe https://rsvo.de/veranstaltungen/sv-sommerbahn-cup/
URL:https://radsportbezirk-schoenbuch-wuermtal.de/event/radrennbahn-oeschelbronn-sommerbahn-cup-lauf-1-6/
LOCATION:Radstadion Öschelbronn\, Brenntenwäldle 2\, Gäufelden\, 71126\, Deutschland
END:VEVENT
BEGIN:VEVENT
DTSTART;TZID=Europe/Berlin:20240515T153000
DTEND;TZID=Europe/Berlin:20240515T183000
DTSTAMP:20260422T044426
CREATED:20240114T152747Z
LAST-MODIFIED:20240114T152747Z
UID:156-1715787000-1715797800@radsportbezirk-schoenbuch-wuermtal.de
SUMMARY:Radrennbahn Öschelbronn: Sommerbahn-Cup Lauf 2/6
DESCRIPTION:Siehe https://rsvo.de/veranstaltungen/sv-sommerbahn-cup/
URL:https://radsportbezirk-schoenbuch-wuermtal.de/event/radrennbahn-oeschelbronn-sommerbahn-cup-lauf-2-6/
LOCATION:Radstadion Öschelbronn\, Brenntenwäldle 2\, Gäufelden\, 71126\, Deutschland
END:VEVENT
BEGIN:VEVENT
DTSTART;TZID=Europe/Berlin:20240530T070000
DTEND;TZID=Europe/Berlin:20240530T170000
DTSTAMP:20260422T044426
CREATED:20240423T070455Z
LAST-MODIFIED:20240423T070455Z
UID:232-1717052400-1717088400@radsportbezirk-schoenbuch-wuermtal.de
SUMMARY:Würm-Enztal-Radtourenfahrt
DESCRIPTION:Unsere Radtourenfahrt findet jählich an Fronleichnam statt. \nStart und Ziel ist die Festhalle in 71263 Weil der Stadt – Merklingen. \nZur Auswahl stehen 5 interessante und sportlich herausfordernde Rundkurse. Für Familien und Hobbyradfahrer sind die die Strecken C und D mit 41 und 24 Kilometer hervorragend geeignet. Für leidenschaftliche Fahrer bis hin zum Leistungssportler bieten wir A Plus\, A und B mit 171\, 125 und 81 Kilometern an. \n\nStart ab 07:00 Uhr\nBewirtung für Jedermann ab 11:30 Uhr\n\nhttps://www.rvwmerklingen.de/radtourenfahrt/
URL:https://radsportbezirk-schoenbuch-wuermtal.de/event/wuerm-enztal-radtourenfahrt/
LOCATION:Turn- und Festhalle Merklingen\, Untere Talstraße 64\, Weil der Stadt\, 71263\, Deutschland
END:VEVENT
END:VCALENDAR