BEGIN:VCALENDAR
VERSION:2.0
PRODID:-//Radsportbezirk Schönbuch-Würmtal e.V. - ECPv6.15.20//NONSGML v1.0//EN
CALSCALE:GREGORIAN
METHOD:PUBLISH
X-WR-CALNAME:Radsportbezirk Schönbuch-Würmtal e.V.
X-ORIGINAL-URL:https://radsportbezirk-schoenbuch-wuermtal.de
X-WR-CALDESC:Veranstaltungen für Radsportbezirk Schönbuch-Würmtal e.V.
REFRESH-INTERVAL;VALUE=DURATION:PT1H
X-Robots-Tag:noindex
X-PUBLISHED-TTL:PT1H
BEGIN:VTIMEZONE
TZID:Europe/Berlin
BEGIN:DAYLIGHT
TZOFFSETFROM:+0100
TZOFFSETTO:+0200
TZNAME:CEST
DTSTART:20230326T010000
END:DAYLIGHT
BEGIN:STANDARD
TZOFFSETFROM:+0200
TZOFFSETTO:+0100
TZNAME:CET
DTSTART:20231029T010000
END:STANDARD
BEGIN:DAYLIGHT
TZOFFSETFROM:+0100
TZOFFSETTO:+0200
TZNAME:CEST
DTSTART:20240331T010000
END:DAYLIGHT
BEGIN:STANDARD
TZOFFSETFROM:+0200
TZOFFSETTO:+0100
TZNAME:CET
DTSTART:20241027T010000
END:STANDARD
BEGIN:DAYLIGHT
TZOFFSETFROM:+0100
TZOFFSETTO:+0200
TZNAME:CEST
DTSTART:20250330T010000
END:DAYLIGHT
BEGIN:STANDARD
TZOFFSETFROM:+0200
TZOFFSETTO:+0100
TZNAME:CET
DTSTART:20251026T010000
END:STANDARD
END:VTIMEZONE
BEGIN:VTIMEZONE
TZID:UTC
BEGIN:STANDARD
TZOFFSETFROM:+0000
TZOFFSETTO:+0000
TZNAME:UTC
DTSTART:20230101T000000
END:STANDARD
END:VTIMEZONE
BEGIN:VEVENT
DTSTART;TZID=Europe/Berlin:20240106T140000
DTEND;TZID=Europe/Berlin:20240106T200000
DTSTAMP:20260422T093941
CREATED:20231220T133403Z
LAST-MODIFIED:20231220T133403Z
UID:119-1704549600-1704571200@radsportbezirk-schoenbuch-wuermtal.de
SUMMARY:Heilige Drei Könige-Turnier\, Gärtringen
DESCRIPTION:
URL:https://radsportbezirk-schoenbuch-wuermtal.de/event/heilige-drei-koenige-turnier-gaertringen/
LOCATION:Gärtringen Schwarzwaldhalle\, Steingrubenweg 10\, Gärtringen\, Deutschland
END:VEVENT
BEGIN:VEVENT
DTSTART;TZID=Europe/Berlin:20240113T140000
DTEND;TZID=Europe/Berlin:20240113T235900
DTSTAMP:20260422T093941
CREATED:20231117T201556Z
LAST-MODIFIED:20231220T135344Z
UID:61-1705154400-1705190340@radsportbezirk-schoenbuch-wuermtal.de
SUMMARY:Bezirkstag 2024
DESCRIPTION:Einladung zum Bezirkstag Schönbuch-Würmtal e.V. 2024 \nSehr geehrte Damen und Herren\, liebe Radsportfreunde\, \nhiermit möchten wir euch recht herzlich zum Bezirkstag 2024 nach Rotfelden einladen und freuen uns\, euch am Samstag\, den 13. Januar 2024 um 14.00 Uhr in dem Schützenhaus in Rotfelden\, Ebershardter Weg\, 72224 Ebhausen-Rotfelden begrüßen zu dürfen. \nDie vorläufige Tagesordnung finden ihr hier. Und nach der Tagesordnung ist noch Zeit für gute Gespräche. \nMit sportlichen Grüßen\nMartin Brenner\nBezirkvorsitzender
URL:https://radsportbezirk-schoenbuch-wuermtal.de/event/bezirkstag-2024/
LOCATION:Rotfelden Schützenhaus\, Ebershardter Weg\, Ebhausen-Rotfelden\, 72224
END:VEVENT
BEGIN:VEVENT
DTSTART;TZID=UTC:20240119T190000
DTEND;TZID=UTC:20240119T220000
DTSTAMP:20260422T093941
CREATED:20231112T142912Z
LAST-MODIFIED:20240120T081252Z
UID:23-1705690800-1705701600@radsportbezirk-schoenbuch-wuermtal.de
SUMMARY:Wettkampf Kreis Junioren & Kreis Elite\, Magstadt
DESCRIPTION:2024_Ausschreibung_1_Kreis_Junioren_Kreis_Elite \nStarterliste \nErgebnisliste
URL:https://radsportbezirk-schoenbuch-wuermtal.de/event/wettkamp-kreis-junioren-kreis-elite/
LOCATION:Magstadt Festhalle\, Alte Stuttgarter Str. 62\, Magstadt\, 71106
END:VEVENT
BEGIN:VEVENT
DTSTART;TZID=Europe/Berlin:20240128T093000
DTEND;TZID=Europe/Berlin:20240128T170000
DTSTAMP:20260422T093941
CREATED:20231112T143434Z
LAST-MODIFIED:20240128T191424Z
UID:30-1706434200-1706461200@radsportbezirk-schoenbuch-wuermtal.de
SUMMARY:Wettkampf Kreis Schüler & Bezirk Junioren\, Gärtringen
DESCRIPTION:2024_Ausschreibung_2_Kreis_Schüler_Bezirk_Junioren \nStarterliste\nHallenöffnung und Trainingsbeginn in der Halle ist am Sonntag um 9:30. \nErgebnisliste
URL:https://radsportbezirk-schoenbuch-wuermtal.de/event/wettkampf-kreis-schueler-bezirk-junioren/
LOCATION:Gärtringen Schwarzwaldhalle\, Steingrubenweg 10\, Gärtringen\, Deutschland
END:VEVENT
END:VCALENDAR