BEGIN:VCALENDAR
VERSION:2.0
PRODID:-//Radsportbezirk Schönbuch-Würmtal e.V. - ECPv6.15.20//NONSGML v1.0//EN
CALSCALE:GREGORIAN
METHOD:PUBLISH
X-WR-CALNAME:Radsportbezirk Schönbuch-Würmtal e.V.
X-ORIGINAL-URL:https://radsportbezirk-schoenbuch-wuermtal.de
X-WR-CALDESC:Veranstaltungen für Radsportbezirk Schönbuch-Würmtal e.V.
REFRESH-INTERVAL;VALUE=DURATION:PT1H
X-Robots-Tag:noindex
X-PUBLISHED-TTL:PT1H
BEGIN:VTIMEZONE
TZID:Europe/Berlin
BEGIN:DAYLIGHT
TZOFFSETFROM:+0100
TZOFFSETTO:+0200
TZNAME:CEST
DTSTART:20250330T010000
END:DAYLIGHT
BEGIN:STANDARD
TZOFFSETFROM:+0200
TZOFFSETTO:+0100
TZNAME:CET
DTSTART:20251026T010000
END:STANDARD
BEGIN:DAYLIGHT
TZOFFSETFROM:+0100
TZOFFSETTO:+0200
TZNAME:CEST
DTSTART:20260329T010000
END:DAYLIGHT
BEGIN:STANDARD
TZOFFSETFROM:+0200
TZOFFSETTO:+0100
TZNAME:CET
DTSTART:20261025T010000
END:STANDARD
BEGIN:DAYLIGHT
TZOFFSETFROM:+0100
TZOFFSETTO:+0200
TZNAME:CEST
DTSTART:20270328T010000
END:DAYLIGHT
BEGIN:STANDARD
TZOFFSETFROM:+0200
TZOFFSETTO:+0100
TZNAME:CET
DTSTART:20271031T010000
END:STANDARD
BEGIN:DAYLIGHT
TZOFFSETFROM:+0100
TZOFFSETTO:+0200
TZNAME:CEST
DTSTART:20280326T010000
END:DAYLIGHT
BEGIN:STANDARD
TZOFFSETFROM:+0200
TZOFFSETTO:+0100
TZNAME:CET
DTSTART:20281029T010000
END:STANDARD
END:VTIMEZONE
BEGIN:VEVENT
DTSTART;VALUE=DATE:20260425
DTEND;VALUE=DATE:20260426
DTSTAMP:20260423T134647
CREATED:20251220T124646Z
LAST-MODIFIED:20251220T124646Z
UID:371-1777075200-1777161599@radsportbezirk-schoenbuch-wuermtal.de
SUMMARY:Verbandstag WRSV
DESCRIPTION:Merklingen\, Kreis Böblingen\, Festhalle
URL:https://radsportbezirk-schoenbuch-wuermtal.de/event/verbandstag-wrsv/
LOCATION:Turn- und Festhalle Merklingen\, Untere Talstraße 64\, Weil der Stadt\, 71263\, Deutschland
END:VEVENT
BEGIN:VEVENT
DTSTART;TZID=Europe/Berlin:20260501T110000
DTEND;TZID=Europe/Berlin:20260501T170000
DTSTAMP:20260423T134647
CREATED:20260120T193255Z
LAST-MODIFIED:20260120T193255Z
UID:381-1777633200-1777654800@radsportbezirk-schoenbuch-wuermtal.de
SUMMARY:Maifeier Wimsheim
DESCRIPTION:
URL:https://radsportbezirk-schoenbuch-wuermtal.de/event/maifeier-wimsheim/
LOCATION:Christian-Jentner-Platz\, Wimsheim\, Steig 38\, Wimsheim\, 71299\, Germany
END:VEVENT
BEGIN:VEVENT
DTSTART;TZID=Europe/Berlin:20260506T183000
DTEND;TZID=Europe/Berlin:20260506T203000
DTSTAMP:20260423T134647
CREATED:20260422T170450Z
LAST-MODIFIED:20260422T170450Z
UID:426-1778092200-1778099400@radsportbezirk-schoenbuch-wuermtal.de
SUMMARY:Sommerbahn-Cup Öschelbronn
DESCRIPTION:
URL:https://radsportbezirk-schoenbuch-wuermtal.de/event/sommerbahn-cup-oeschelbronn/
LOCATION:Radstadion Öschelbronn\, Brenntenwäldle 2\, Gäufelden\, 71126\, Deutschland
END:VEVENT
BEGIN:VEVENT
DTSTART;VALUE=DATE:20260521
DTEND;VALUE=DATE:20260522
DTSTAMP:20260423T134647
CREATED:20260120T194250Z
LAST-MODIFIED:20260120T194250Z
UID:396-1779321600-1779407999@radsportbezirk-schoenbuch-wuermtal.de
SUMMARY:Bahnen-Tournee Etappe Öschelbronn
DESCRIPTION:
URL:https://radsportbezirk-schoenbuch-wuermtal.de/event/bahnen-tournee-etappe-oeschelbronn/
END:VEVENT
BEGIN:VEVENT
DTSTART;TZID=Europe/Berlin:20260614T090000
DTEND;TZID=Europe/Berlin:20260614T170000
DTSTAMP:20260423T134647
CREATED:20251207T141034Z
LAST-MODIFIED:20251207T141034Z
UID:367-1781427600-1781456400@radsportbezirk-schoenbuch-wuermtal.de
SUMMARY:Nufringer Einradpokal 2026
DESCRIPTION:https://hallenrad.de/tk/h8_detail.php?ID=4416
URL:https://radsportbezirk-schoenbuch-wuermtal.de/event/nufringer-einradpokal-2026/
LOCATION:Nufringen Schwabenlandhalle\, Im Wiesengrund 20\, Nufringen\, 71154\, Deutschland
END:VEVENT
BEGIN:VEVENT
DTSTART;TZID=Europe/Berlin:20260617T183000
DTEND;TZID=Europe/Berlin:20260617T203000
DTSTAMP:20260423T134647
CREATED:20260422T170538Z
LAST-MODIFIED:20260422T170538Z
UID:428-1781721000-1781728200@radsportbezirk-schoenbuch-wuermtal.de
SUMMARY:Sommerbahn-Cup Öschelbronn
DESCRIPTION:
URL:https://radsportbezirk-schoenbuch-wuermtal.de/event/sommerbahn-cup-oeschelbronn-2/
LOCATION:Radstadion Öschelbronn\, Brenntenwäldle 2\, Gäufelden\, 71126\, Deutschland
END:VEVENT
BEGIN:VEVENT
DTSTART;VALUE=DATE:20260621
DTEND;VALUE=DATE:20260622
DTSTAMP:20260423T134647
CREATED:20260120T194325Z
LAST-MODIFIED:20260120T194325Z
UID:398-1782000000-1782086399@radsportbezirk-schoenbuch-wuermtal.de
SUMMARY:Radaktionstag im Gäu (in Bondorf)
DESCRIPTION:
URL:https://radsportbezirk-schoenbuch-wuermtal.de/event/radaktionstag-im-gaeu-in-bondorf/
END:VEVENT
BEGIN:VEVENT
DTSTART;TZID=Europe/Berlin:20260627T100000
DTEND;TZID=Europe/Berlin:20260627T170000
DTSTAMP:20260423T134647
CREATED:20260120T193734Z
LAST-MODIFIED:20260120T193734Z
UID:385-1782554400-1782579600@radsportbezirk-schoenbuch-wuermtal.de
SUMMARY:open air\, Wimsheim
DESCRIPTION:
URL:https://radsportbezirk-schoenbuch-wuermtal.de/event/open-air-wimsheim/
LOCATION:Christian-Jentner-Platz\, Wimsheim\, Steig 38\, Wimsheim\, 71299\, Germany
END:VEVENT
BEGIN:VEVENT
DTSTART;VALUE=DATE:20260704
DTEND;VALUE=DATE:20260705
DTSTAMP:20260423T134647
CREATED:20260120T194354Z
LAST-MODIFIED:20260120T194354Z
UID:400-1783123200-1783209599@radsportbezirk-schoenbuch-wuermtal.de
SUMMARY:Offene BaWü Meisterschaft Ausdauer U15-U19\, Öschelbronn
DESCRIPTION:
URL:https://radsportbezirk-schoenbuch-wuermtal.de/event/offene-bawue-meisterschaft-ausdauer-u15-u19-oeschelbronn/
END:VEVENT
BEGIN:VEVENT
DTSTART;TZID=Europe/Berlin:20260708T183000
DTEND;TZID=Europe/Berlin:20260708T203000
DTSTAMP:20260423T134647
CREATED:20260422T170614Z
LAST-MODIFIED:20260422T170614Z
UID:430-1783535400-1783542600@radsportbezirk-schoenbuch-wuermtal.de
SUMMARY:Sommerbahn-Cup Öschelbronn - Finale
DESCRIPTION:
URL:https://radsportbezirk-schoenbuch-wuermtal.de/event/sommerbahn-cup-oeschelbronn-finale/
LOCATION:Radstadion Öschelbronn\, Brenntenwäldle 2\, Gäufelden\, 71126\, Deutschland
END:VEVENT
BEGIN:VEVENT
DTSTART;VALUE=DATE:20260712
DTEND;VALUE=DATE:20260713
DTSTAMP:20260423T134647
CREATED:20260120T194420Z
LAST-MODIFIED:20260120T194420Z
UID:402-1783814400-1783900799@radsportbezirk-schoenbuch-wuermtal.de
SUMMARY:Flugfeld Giro\, Öschelbronn
DESCRIPTION:
URL:https://radsportbezirk-schoenbuch-wuermtal.de/event/flugfeld-giro-oeschelbronn/
END:VEVENT
BEGIN:VEVENT
DTSTART;VALUE=DATE:20260801
DTEND;VALUE=DATE:20260803
DTSTAMP:20260423T134647
CREATED:20260120T194457Z
LAST-MODIFIED:20260120T194457Z
UID:404-1785542400-1785715199@radsportbezirk-schoenbuch-wuermtal.de
SUMMARY:German Cycling Bahn Nachwuchs-Cup\, Öschelbronn
DESCRIPTION:
URL:https://radsportbezirk-schoenbuch-wuermtal.de/event/german-cycling-bahn-nachwuchs-cup-oeschelbronn/
END:VEVENT
BEGIN:VEVENT
DTSTART;TZID=Europe/Berlin:20260913T100000
DTEND;TZID=Europe/Berlin:20260913T170000
DTSTAMP:20260423T134647
CREATED:20260120T193804Z
LAST-MODIFIED:20260120T193818Z
UID:387-1789293600-1789318800@radsportbezirk-schoenbuch-wuermtal.de
SUMMARY:Radwandertag\, Wimsheim
DESCRIPTION:
URL:https://radsportbezirk-schoenbuch-wuermtal.de/event/radwandertag-2/
LOCATION:Christian-Jentner-Platz\, Wimsheim\, Steig 38\, Wimsheim\, 71299\, Germany
END:VEVENT
BEGIN:VEVENT
DTSTART;TZID=Europe/Berlin:20270116T080000
DTEND;TZID=Europe/Berlin:20270116T170000
DTSTAMP:20260423T134647
CREATED:20260125T182425Z
LAST-MODIFIED:20260125T182425Z
UID:410-1800086400-1800118800@radsportbezirk-schoenbuch-wuermtal.de
SUMMARY:Bezirkstag 2027\, Wimsheim
DESCRIPTION:
URL:https://radsportbezirk-schoenbuch-wuermtal.de/event/bezirkstag-2027-wimsheim/
END:VEVENT
BEGIN:VEVENT
DTSTART;TZID=Europe/Berlin:20270306T190000
DTEND;TZID=Europe/Berlin:20270306T220000
DTSTAMP:20260423T134647
CREATED:20260411T125614Z
LAST-MODIFIED:20260411T125614Z
UID:423-1804359600-1804370400@radsportbezirk-schoenbuch-wuermtal.de
SUMMARY:RV Nufringen Hauptversammlung
DESCRIPTION:
URL:https://radsportbezirk-schoenbuch-wuermtal.de/event/rv-nufringen-hauptversammlung/
END:VEVENT
BEGIN:VEVENT
DTSTART;VALUE=DATE:20270522
DTEND;VALUE=DATE:20270524
DTSTAMP:20260423T134647
CREATED:20260422T170926Z
LAST-MODIFIED:20260423T051154Z
UID:432-1810944000-1811116799@radsportbezirk-schoenbuch-wuermtal.de
SUMMARY:Deutsche Meisterschaft Schüler 2027
DESCRIPTION:Kunstrad\nEinrad\nRadball
URL:https://radsportbezirk-schoenbuch-wuermtal.de/event/deutsche-meisterschaft-schueler/
LOCATION:Nufringen Schwabenlandhalle\, Im Wiesengrund 20\, Nufringen\, 71154\, Deutschland
END:VEVENT
END:VCALENDAR