BEGIN:VCALENDAR
VERSION:2.0
PRODID:-//Radsportbezirk Schönbuch-Würmtal e.V. - ECPv6.15.20//NONSGML v1.0//EN
CALSCALE:GREGORIAN
METHOD:PUBLISH
X-ORIGINAL-URL:https://radsportbezirk-schoenbuch-wuermtal.de
X-WR-CALDESC:Veranstaltungen für Radsportbezirk Schönbuch-Würmtal e.V.
REFRESH-INTERVAL;VALUE=DURATION:PT1H
X-Robots-Tag:noindex
X-PUBLISHED-TTL:PT1H
BEGIN:VTIMEZONE
TZID:UTC
BEGIN:STANDARD
TZOFFSETFROM:+0000
TZOFFSETTO:+0000
TZNAME:UTC
DTSTART:20230101T000000
END:STANDARD
END:VTIMEZONE
BEGIN:VEVENT
DTSTART;TZID=UTC:20240414T093000
DTEND;TZID=UTC:20240414T170000
DTSTAMP:20260422T071023
CREATED:20231112T143753Z
LAST-MODIFIED:20240414T181256Z
UID:34-1713087000-1713114000@radsportbezirk-schoenbuch-wuermtal.de
SUMMARY:Wettkampf Bezirk Schüler & Bezirk Elite\, Sindelfingen
DESCRIPTION:2024_Ausschreibung_3_Bezirk_Schüler_Bezirk_Elite \nStarterliste \nErgebnisliste
URL:https://radsportbezirk-schoenbuch-wuermtal.de/event/wettkampf-bezirk-schueler-bezirk-elite/
LOCATION:Sindelfingen Sporthalle Stadtmitte\, Böblingerstraße 24\, Sindelfingen\, 71065
END:VEVENT
END:VCALENDAR