BEGIN:VCALENDAR
VERSION:2.0
PRODID:-//Radsportbezirk Schönbuch-Würmtal e.V. - ECPv6.15.20//NONSGML v1.0//EN
CALSCALE:GREGORIAN
METHOD:PUBLISH
X-WR-CALNAME:Radsportbezirk Schönbuch-Würmtal e.V.
X-ORIGINAL-URL:https://radsportbezirk-schoenbuch-wuermtal.de
X-WR-CALDESC:Veranstaltungen für Radsportbezirk Schönbuch-Würmtal e.V.
REFRESH-INTERVAL;VALUE=DURATION:PT1H
X-Robots-Tag:noindex
X-PUBLISHED-TTL:PT1H
BEGIN:VTIMEZONE
TZID:Europe/Berlin
BEGIN:DAYLIGHT
TZOFFSETFROM:+0100
TZOFFSETTO:+0200
TZNAME:CEST
DTSTART:20230326T010000
END:DAYLIGHT
BEGIN:STANDARD
TZOFFSETFROM:+0200
TZOFFSETTO:+0100
TZNAME:CET
DTSTART:20231029T010000
END:STANDARD
BEGIN:DAYLIGHT
TZOFFSETFROM:+0100
TZOFFSETTO:+0200
TZNAME:CEST
DTSTART:20240331T010000
END:DAYLIGHT
BEGIN:STANDARD
TZOFFSETFROM:+0200
TZOFFSETTO:+0100
TZNAME:CET
DTSTART:20241027T010000
END:STANDARD
BEGIN:DAYLIGHT
TZOFFSETFROM:+0100
TZOFFSETTO:+0200
TZNAME:CEST
DTSTART:20250330T010000
END:DAYLIGHT
BEGIN:STANDARD
TZOFFSETFROM:+0200
TZOFFSETTO:+0100
TZNAME:CET
DTSTART:20251026T010000
END:STANDARD
END:VTIMEZONE
BEGIN:VEVENT
DTSTART;VALUE=DATE:20240309
DTEND;VALUE=DATE:20240311
DTSTAMP:20260422T083023
CREATED:20240114T152347Z
LAST-MODIFIED:20240114T152347Z
UID:150-1709942400-1710115199@radsportbezirk-schoenbuch-wuermtal.de
SUMMARY:Radrennbahn Öschelbronn: Radbörse im Radstadion
DESCRIPTION:Die Radbörse findet im Radstadion Öschelbronn statt. Hier findet das Sportlerherz alles rund um das Thema Rad. Vom Damenrad bis hin zum Rennrad ist so gut wie alles vertreten. Auch für die ersten zaghaften Versuche der Kinder gibt es ein passendes Exemplar. \nAber nicht nur Räder stehen im Angebot der nun schon traditionellen Öschelbronner Radbörse. Auch Inliner gehören seit langem zur Produktpalette. Und wer nach einem Ersatzteil oder Fahrradzubehör sucht\, könnte hier ebenfalls fündig werden. \nKommen und stöbern\, probieren und kaufen. Oder abgeben… alles ist möglich auf der Öschelbronner Fahrradbörse.
URL:https://radsportbezirk-schoenbuch-wuermtal.de/event/radrennbahn-oeschelbronn-radboerse-im-radstadion/
LOCATION:Radstadion Öschelbronn\, Brenntenwäldle 2\, Gäufelden\, 71126\, Deutschland
END:VEVENT
BEGIN:VEVENT
DTSTART;TZID=Europe/Berlin:20240309T100000
DTEND;TZID=Europe/Berlin:20240309T120000
DTSTAMP:20260422T083023
CREATED:20240219T062842Z
LAST-MODIFIED:20240219T063030Z
UID:212-1709978400-1709985600@radsportbezirk-schoenbuch-wuermtal.de
SUMMARY:23. Radbörse\, Weil im Schönbuch
DESCRIPTION:
URL:https://radsportbezirk-schoenbuch-wuermtal.de/event/23-radboerse-weil-im-schoenbuch/
LOCATION:Weil im Schönbuch Radsporthalle\, Seetal 1\, Weil im Schönbuch\, 71093
END:VEVENT
END:VCALENDAR