BEGIN:VCALENDAR
VERSION:2.0
PRODID:-//Radsportbezirk Schönbuch-Würmtal e.V. - ECPv6.15.20//NONSGML v1.0//EN
CALSCALE:GREGORIAN
METHOD:PUBLISH
X-ORIGINAL-URL:http://radsportbezirk-schoenbuch-wuermtal.de
X-WR-CALDESC:Veranstaltungen für Radsportbezirk Schönbuch-Würmtal e.V.
REFRESH-INTERVAL;VALUE=DURATION:PT1H
X-Robots-Tag:noindex
X-PUBLISHED-TTL:PT1H
BEGIN:VTIMEZONE
TZID:Europe/Berlin
BEGIN:DAYLIGHT
TZOFFSETFROM:+0100
TZOFFSETTO:+0200
TZNAME:CEST
DTSTART:20240331T010000
END:DAYLIGHT
BEGIN:STANDARD
TZOFFSETFROM:+0200
TZOFFSETTO:+0100
TZNAME:CET
DTSTART:20241027T010000
END:STANDARD
BEGIN:DAYLIGHT
TZOFFSETFROM:+0100
TZOFFSETTO:+0200
TZNAME:CEST
DTSTART:20250330T010000
END:DAYLIGHT
BEGIN:STANDARD
TZOFFSETFROM:+0200
TZOFFSETTO:+0100
TZNAME:CET
DTSTART:20251026T010000
END:STANDARD
BEGIN:DAYLIGHT
TZOFFSETFROM:+0100
TZOFFSETTO:+0200
TZNAME:CEST
DTSTART:20260329T010000
END:DAYLIGHT
BEGIN:STANDARD
TZOFFSETFROM:+0200
TZOFFSETTO:+0100
TZNAME:CET
DTSTART:20261025T010000
END:STANDARD
END:VTIMEZONE
BEGIN:VEVENT
DTSTART;VALUE=DATE:20250705
DTEND;VALUE=DATE:20250706
DTSTAMP:20260423T111432
CREATED:20250512T095921Z
LAST-MODIFIED:20250512T100637Z
UID:326-1751673600-1751759999@radsportbezirk-schoenbuch-wuermtal.de
SUMMARY:Radrennbahn Öschelbronn: Aktion Steilkurve
DESCRIPTION:
URL:http://radsportbezirk-schoenbuch-wuermtal.de/event/radrennbahn-oeschelbronn-aktion-steilkurve/
LOCATION:Radstadion Öschelbronn\, Brenntenwäldle 2\, Gäufelden\, 71126\, Deutschland
END:VEVENT
BEGIN:VEVENT
DTSTART;VALUE=DATE:20250709
DTEND;VALUE=DATE:20250710
DTSTAMP:20260423T111432
CREATED:20250512T100419Z
LAST-MODIFIED:20250512T100419Z
UID:333-1752019200-1752105599@radsportbezirk-schoenbuch-wuermtal.de
SUMMARY:Radrennbahn Öschelbronn: Sommerbahn Cup 2025 Lauf 2
DESCRIPTION:Details siehe Ausschreibung \nSommerbahn-Cup
URL:http://radsportbezirk-schoenbuch-wuermtal.de/event/radrennbahn-oeschelbronn-sommerbahn-cup-2025-lauf-2/
LOCATION:Radstadion Öschelbronn\, Brenntenwäldle 2\, Gäufelden\, 71126\, Deutschland
END:VEVENT
BEGIN:VEVENT
DTSTART;VALUE=DATE:20250716
DTEND;VALUE=DATE:20250717
DTSTAMP:20260423T111436
CREATED:20250512T100517Z
LAST-MODIFIED:20250512T100517Z
UID:335-1752624000-1752710399@radsportbezirk-schoenbuch-wuermtal.de
SUMMARY:Radrennbahn Öschelbronn: Sommerbahn Cup 2025 Lauf 3 - Finale
DESCRIPTION:Details siehe Ausschreibung \nSommerbahn-Cup
URL:http://radsportbezirk-schoenbuch-wuermtal.de/event/radrennbahn-oeschelbronn-sommerbahn-cup-2025-lauf-3-finale/
END:VEVENT
BEGIN:VEVENT
DTSTART;VALUE=DATE:20250727
DTEND;VALUE=DATE:20250728
DTSTAMP:20260423T111439
CREATED:20250604T052344Z
LAST-MODIFIED:20250604T052441Z
UID:341-1753574400-1753660799@radsportbezirk-schoenbuch-wuermtal.de
SUMMARY:Magstadter RTF & Radmarathon
DESCRIPTION:https://radmarathon-nordschwarzwald.de/
URL:http://radsportbezirk-schoenbuch-wuermtal.de/event/magstadter-rtf-radmarathon/
LOCATION:Magstadt Festhalle\, Alte Stuttgarter Str. 62\, Magstadt\, 71106
END:VEVENT
END:VCALENDAR